BEGIN:VCALENDAR
VERSION:2.0
PRODID:-//Klas - ECPv6.15.20//NONSGML v1.0//EN
CALSCALE:GREGORIAN
METHOD:PUBLISH
X-WR-CALNAME:Klas
X-ORIGINAL-URL:https://www.klasgroup.com
X-WR-CALDESC:Events for Klas
REFRESH-INTERVAL;VALUE=DURATION:PT1H
X-Robots-Tag:noindex
X-PUBLISHED-TTL:PT1H
BEGIN:VTIMEZONE
TZID:UTC
BEGIN:STANDARD
TZOFFSETFROM:+0000
TZOFFSETTO:+0000
TZNAME:UTC
DTSTART:20230101T000000
END:STANDARD
END:VTIMEZONE
BEGIN:VEVENT
DTSTART;VALUE=DATE:20240506
DTEND;VALUE=DATE:20240511
DTSTAMP:20260420T084345
CREATED:20240426T112950Z
LAST-MODIFIED:20250409T123044Z
UID:46586-1714953600-1715385599@www.klasgroup.com
SUMMARY:Klas Government at SOF Week 2024
DESCRIPTION:From May 6-10th\, Klas will be at SOF Week 2024 showcasing our latest tactical edge technology including Klas’ TrueTactical™ technology that is proven\, trusted\, and deployed across all elements of the U.S. Department of Defense and its coalition partners. Visit us at Booth #1513 and if you’d like to arrange a meeting with one of our team\, contact us at sales@klasgov.com. \nOur live demos this year will be focused around demonstrating how our modular platform and vast partner ecosystem can help your organization scale to any mission and: \n\ncreate an interoperable\, adaptative\, resilient\, robust\, redundant\, and infinitely scalable edge common compute data centric environment.\ndefend your networks against cyberattacks in highly contested or denied environments\nprovide situational awareness and information management and data exchange with increased efficiency\, reduced cognitive workloads\, using multiple transport methods and fusing information and displays to our coalition forces across all domains;\nprovide expeditionary communications that have a low probability of interception/detection in remote and highly contested locations;\nmerging multiple program requirements and end user missions by seamlessly integrating most military radios;\nuse any method of transport (SATCOM agnostic) and most COTS software;\ndevelop an infrastructure to include improved compute\, software\, firmware\, electromagnetic spectrum sensing ability\, and cyber protection;\nleverage the power of AI/ML to collect\, process\, analyze and distribute data at the edge and get the right information to the right people at the right time.\n\nOur demos will include:  \n• VoyagerVM 4.0 Expansion Modules\n• Voyager DEK (Dual Enclave Kit)\n• Kortex™ V\n• TMES (Tactical Multi-Enclave System Transport & Network)\n• Voyager TRIK-M (Tactical Radio Integration Kit – Manpack) \nAbout SOF Week 2024: \nSOF Week is an annual conference for the international SOF community to learn\, connect\, and honor its members. The event is jointly sponsored by USSOCOM and the Global SOF Foundation. It is held in Tampa\, Florida and is expected to draw over 15\,000 attendees.Register to attend SOF Week 2024 here.
URL:https://www.klasgroup.com/event/klas-government-at-sof-week-2024/
LOCATION:Tampa Convention Center | 333 S. Franklin St. Tampa\, FL 33602\, Tampa Convention Center | 333 S. Franklin St. Tampa\, FL 33602
CATEGORIES:Gov
ATTACH;FMTTYPE=image/jpeg:https://www.klasgroup.com/wp-content/uploads/2024/04/Klas_Gov_SOF_Week_2024_website_graphic2_1400x700_v1_01.jpg
END:VEVENT
END:VCALENDAR